BEGIN:VCALENDAR
VERSION:2.0
PRODID:-//ChamberMaster//Event Calendar 2.0//EN
METHOD:PUBLISH
X-PUBLISHED-TTL:P3D
REFRESH-INTERVAL:P3D
CALSCALE:GREGORIAN
BEGIN:VEVENT
DTSTART;VALUE=DATE:20090212
DTEND;VALUE=DATE:20090213
TRANSP:TRANSPARENT
X-MICROSOFT-CDO-ALLDAYEVENT:TRUE
SUMMARY:Business After Hours - Berry Island Cafe'
DESCRIPTION:RSVP by Tuesday\, February 10.   Members $10    Non Members $20
X-ALT-DESC;FMTTYPE=text/html:RSVP by Tuesday\, February 10.   Members $10    Non Members $20
LOCATION:
UID:e.1212.2902
SEQUENCE:3
DTSTAMP:20260425T112525Z
URL:http://business.beaufortchamber.org/events/details/business-after-hours-berry-island-cafe-02-12-2009-2902
END:VEVENT

END:VCALENDAR
