BEGIN:VCALENDAR
VERSION:2.0
PRODID:-//ChamberMaster//Event Calendar 2.0//EN
METHOD:PUBLISH
X-PUBLISHED-TTL:P3D
REFRESH-INTERVAL:P3D
CALSCALE:GREGORIAN
BEGIN:VEVENT
DTSTART;VALUE=DATE:20090108
DTEND;VALUE=DATE:20090109
TRANSP:TRANSPARENT
X-MICROSOFT-CDO-ALLDAYEVENT:TRUE
SUMMARY:Business After Hours - BES\, Inc.
DESCRIPTION:RSVP by Tuesday\, January 6.    Members $10   Non-members $20
X-ALT-DESC;FMTTYPE=text/html:RSVP by Tuesday\, January 6.    Members $10   Non-members $20\n
LOCATION:
UID:e.1212.2359
SEQUENCE:3
DTSTAMP:20260425T124606Z
URL:http://business.beaufortchamber.org/events/details/business-after-hours-bes-inc-01-08-2009-2359
END:VEVENT

END:VCALENDAR
