BEGIN:VCALENDAR
VERSION:2.0
PRODID:-//ChamberMaster//Event Calendar 2.0//EN
METHOD:PUBLISH
X-PUBLISHED-TTL:P3D
REFRESH-INTERVAL:P3D
CALSCALE:GREGORIAN
BEGIN:VEVENT
DTSTART;VALUE=DATE:20091210
DTEND;VALUE=DATE:20091211
TRANSP:TRANSPARENT
X-MICROSOFT-CDO-ALLDAYEVENT:TRUE
SUMMARY:Business After Hours - Centurylink
DESCRIPTION:Come out for an evening of fun with appetizers and beverages while you mingle with current\, new and prospective members\nBring your business cards and promote your expertise as you make new contacts and learn about theirs too !\nCost: $10 Members\nCost $20 for Future Members\nRSVP by Tuesday\, December 8
X-ALT-DESC;FMTTYPE=text/html:Come out for an evening of fun with appetizers and beverages while you mingle with current\, new and prospective members\nBring your business cards and promote your expertise as you make new contacts and learn about theirs too !\nCost: $10 Members\nCost $20 for Future Members\nRSVP by Tuesday\, December 8
LOCATION:
UID:e.1212.3612
SEQUENCE:3
DTSTAMP:20260424T193649Z
URL:http://business.beaufortchamber.org/events/details/business-after-hours-centurylink-12-10-2009-3612
END:VEVENT

END:VCALENDAR
