BEGIN:VCALENDAR
VERSION:2.0
PRODID:-//ChamberMaster//Event Calendar 2.0//EN
METHOD:PUBLISH
X-PUBLISHED-TTL:P3D
REFRESH-INTERVAL:P3D
CALSCALE:GREGORIAN
BEGIN:VEVENT
DTSTART:20120209T223000Z
DTEND:20120210T000000Z
X-MICROSOFT-CDO-ALLDAYEVENT:FALSE
SUMMARY:Business After Hours - Hosted by Beaufort Rentals
DESCRIPTION:Relationship building is how business is done in Beaufort. Expose your business to a variety of industries and professionals in a high-energy social atmosphere. Business After Hours is a staple of the Chamber members' calendars. This after hours networking event for professionals is held monthly from 5:30 - 7 p.m. at various locations throughout the Beaufort region. Join us this month at Beaufort Rentals!
X-ALT-DESC;FMTTYPE=text/html:<font face="Arial">Relationship building is how business is done in Beaufort. Expose your business to a variety of industries and professionals in a high-energy social atmosphere. Business After Hours is a staple of the Chamber members&#39\; calendars. This after hours networking event for professionals is held monthly from 5:30 - 7 p.m. at various locations throughout the&nbsp\;Beaufort region. Join us this month at Beaufort Rentals!</font>
LOCATION:Located at 69 Robert Smalls Parkway\, Beaufort\, SC 29902.
UID:e.1212.4314
SEQUENCE:3
DTSTAMP:20260423T024128Z
URL:http://business.beaufortchamber.org/events/details/business-after-hours-hosted-by-beaufort-rentals-02-09-2012-4314
END:VEVENT

END:VCALENDAR
