BEGIN:VCALENDAR
VERSION:2.0
PRODID:-//ChamberMaster//Event Calendar 2.0//EN
METHOD:PUBLISH
X-PUBLISHED-TTL:P3D
REFRESH-INTERVAL:P3D
CALSCALE:GREGORIAN
BEGIN:VEVENT
DTSTART:20130613T213000Z
DTEND:20130613T230000Z
X-MICROSOFT-CDO-ALLDAYEVENT:FALSE
SUMMARY:Business After Hours - Hosted by Pinckney Retreat
DESCRIPTION:Pinckney Retreat\, 108 Sturdevant Drive\, Port Royal\n\n\n\nThursday\, June 13th  5:30 - 7 pm\n\n\n\nFree - ALL are welcome!\n\n\n\nRSVP to Connie Hipp at 843.525.8523 or connie@beaufortsc.org
X-ALT-DESC;FMTTYPE=text/html:Pinckney Retreat\, 108 Sturdevant Drive\, Port Royal<br />\n<br />\nThursday\, June 13th&nbsp\; 5:30 - 7 pm<br />\n<br />\nFree - ALL are welcome!<br />\n<br />\nRSVP to Connie Hipp at 843.525.8523 or connie@beaufortsc.org
LOCATION:108 Sturdevant Drive\, Port Royal
UID:e.1212.4677
SEQUENCE:3
DTSTAMP:20260422T012234Z
URL:http://business.beaufortchamber.org/events/details/business-after-hours-hosted-by-pinckney-retreat-06-13-2013-4677
END:VEVENT

END:VCALENDAR
