BEGIN:VCALENDAR
VERSION:2.0
PRODID:-//ChamberMaster//Event Calendar 2.0//EN
METHOD:PUBLISH
X-PUBLISHED-TTL:P3D
REFRESH-INTERVAL:P3D
CALSCALE:GREGORIAN
BEGIN:VEVENT
DTSTART;VALUE=DATE:20100114
DTEND;VALUE=DATE:20100115
TRANSP:TRANSPARENT
X-MICROSOFT-CDO-ALLDAYEVENT:TRUE
SUMMARY:Business After Hours - Jim 'n Nick's Bar-B-Q
DESCRIPTION:Come out for an evening of fun with appetizers and beverages while you mingle with current\, new and prospective members\n\nBring your business cards and promote your expertise as you make new contacts and learn about theirs too !\n\nCost: $10 Members\nCost $20 for Future Members\nRSVP by Tuesday\, January 12
X-ALT-DESC;FMTTYPE=text/html:Come out for an evening of fun with appetizers and beverages while you mingle with current\, new and prospective members\n\nBring your business cards and promote your expertise as you make new contacts and learn about theirs too !\n\nCost: $10 Members\nCost $20 for Future Members\nRSVP by Tuesday\, January 12
LOCATION:
UID:e.1212.3734
SEQUENCE:3
DTSTAMP:20260424T184222Z
URL:http://business.beaufortchamber.org/events/details/business-after-hours-jim-n-nick-s-bar-b-q-01-14-2010-3734
END:VEVENT

END:VCALENDAR
