BEGIN:VCALENDAR
VERSION:2.0
PRODID:-//ChamberMaster//Event Calendar 2.0//EN
METHOD:PUBLISH
X-PUBLISHED-TTL:P3D
REFRESH-INTERVAL:P3D
CALSCALE:GREGORIAN
BEGIN:VEVENT
DTSTART:20120809T213000Z
DTEND:20120809T230000Z
X-MICROSOFT-CDO-ALLDAYEVENT:FALSE
SUMMARY:Business After Hours & New Member Reception - The Arsenal - 713 Craven St.
DESCRIPTION:
X-ALT-DESC;FMTTYPE=text/html:
LOCATION:
UID:e.1212.4542
SEQUENCE:3
DTSTAMP:20260422T175747Z
URL:http://business.beaufortchamber.org/events/details/business-after-hours-new-member-reception-the-arsenal-713-craven-st-08-09-2012-4542
END:VEVENT

END:VCALENDAR
