BEGIN:VCALENDAR
VERSION:2.0
PRODID:-//ChamberMaster//Event Calendar 2.0//EN
METHOD:PUBLISH
X-PUBLISHED-TTL:P3D
REFRESH-INTERVAL:P3D
CALSCALE:GREGORIAN
BEGIN:VEVENT
DTSTART;VALUE=DATE:20091008
DTEND;VALUE=DATE:20091009
TRANSP:TRANSPARENT
X-MICROSOFT-CDO-ALLDAYEVENT:TRUE
SUMMARY:Business After Hours - Old Village Association
DESCRIPTION:Come out and join this BAH for an Oyster Roast !\nBring your business cards for the opportunity to make lots of new business contacts.\nRSVP by Tuesday\, October 6.   Members $10    Non Members $20
X-ALT-DESC;FMTTYPE=text/html:Come out and join this BAH for an Oyster Roast !\nBring your business cards for the opportunity to make lots of new business contacts.\nRSVP by Tuesday\, October 6.   Members $10    Non Members $20
LOCATION:
UID:e.1212.3122
SEQUENCE:3
DTSTAMP:20260424T221715Z
URL:http://business.beaufortchamber.org/events/details/business-after-hours-old-village-association-10-08-2009-3122
END:VEVENT

END:VCALENDAR
