BEGIN:VCALENDAR
VERSION:2.0
PRODID:-//ChamberMaster//Event Calendar 2.0//EN
METHOD:PUBLISH
X-PUBLISHED-TTL:P3D
REFRESH-INTERVAL:P3D
CALSCALE:GREGORIAN
BEGIN:VEVENT
DTSTART:20130110T223000Z
DTEND:20130111T000000Z
X-MICROSOFT-CDO-ALLDAYEVENT:FALSE
SUMMARY:Business After Hours - Saltus
DESCRIPTION:Hosted by Saltus River Gill/ Plums/REmax Island Realty
X-ALT-DESC;FMTTYPE=text/html:Hosted by Saltus River Gill/ Plums/REmax Island Realty
LOCATION:Saltus River Grill\, 802 Bay Street\, Beaufort\, SC
UID:e.1212.4659
SEQUENCE:3
DTSTAMP:20260422T101723Z
URL:http://business.beaufortchamber.org/events/details/business-after-hours-saltus-01-10-2013-4659
END:VEVENT

END:VCALENDAR
