BEGIN:VCALENDAR
VERSION:2.0
PRODID:-//ChamberMaster//Event Calendar 2.0//EN
METHOD:PUBLISH
X-PUBLISHED-TTL:P3D
REFRESH-INTERVAL:P3D
CALSCALE:GREGORIAN
BEGIN:VEVENT
DTSTART;VALUE=DATE:20081211
DTEND;VALUE=DATE:20081212
TRANSP:TRANSPARENT
X-MICROSOFT-CDO-ALLDAYEVENT:TRUE
SUMMARY:Business After Hours - Sanctuary Golf Club
DESCRIPTION:Please RSVP by Tuesday\, December 9 at 5 p.m.  Members $10   Non-members $20
X-ALT-DESC;FMTTYPE=text/html:Please RSVP by Tuesday\, December 9 at 5 p.m.  Members $10   Non-members $20
LOCATION:
UID:e.1212.2697
SEQUENCE:3
DTSTAMP:20260425T141634Z
URL:http://business.beaufortchamber.org/events/details/business-after-hours-sanctuary-golf-club-12-11-2008-2697
END:VEVENT

END:VCALENDAR
