BEGIN:VCALENDAR
VERSION:2.0
PRODID:-//ChamberMaster//Event Calendar 2.0//EN
METHOD:PUBLISH
X-PUBLISHED-TTL:P3D
REFRESH-INTERVAL:P3D
CALSCALE:GREGORIAN
BEGIN:VEVENT
DTSTART:20121011T213000Z
DTEND:20121011T230000Z
X-MICROSOFT-CDO-ALLDAYEVENT:FALSE
SUMMARY:Business After Hours - Summit Place
DESCRIPTION:
X-ALT-DESC;FMTTYPE=text/html:
LOCATION:Hosted by Summit Place of Beaufort\, 1119 Pickpocket Plantation Drive\, Beaufort
UID:e.1212.4605
SEQUENCE:3
DTSTAMP:20260422T162342Z
URL:http://business.beaufortchamber.org/events/details/business-after-hours-summit-place-10-11-2012-4605
END:VEVENT

END:VCALENDAR
