BEGIN:VCALENDAR
VERSION:2.0
PRODID:-//ChamberMaster//Event Calendar 2.0//EN
METHOD:PUBLISH
X-PUBLISHED-TTL:P3D
REFRESH-INTERVAL:P3D
CALSCALE:GREGORIAN
BEGIN:VEVENT
DTSTART;VALUE=DATE:20091112
DTEND;VALUE=DATE:20091113
TRANSP:TRANSPARENT
X-MICROSOFT-CDO-ALLDAYEVENT:TRUE
SUMMARY:Business After Hours - The Preserve at Port Royal
DESCRIPTION:Come out for an evening of fun as you enjoy appetizers\, beverages\, and mingle with current\, new and prospective members\nBring your business cards and promote your expertise as you make new contacts and learn about theirs too !\nCost: $10 Members\nCost: $20 for Non-Members\nRSVP by Tuesday\, November 10
X-ALT-DESC;FMTTYPE=text/html:Come out for an evening of fun as you enjoy appetizers\, beverages\, and mingle with current\, new and prospective members\nBring your business cards and promote your expertise as you make new contacts and learn about theirs too !\nCost: $10 Members\nCost: $20 for Non-Members\nRSVP by Tuesday\, November 10
LOCATION:
UID:e.1212.3579
SEQUENCE:3
DTSTAMP:20260424T210542Z
URL:http://business.beaufortchamber.org/events/details/business-after-hours-the-preserve-at-port-royal-11-12-2009-3579
END:VEVENT

END:VCALENDAR
