BEGIN:VCALENDAR
VERSION:2.0
PRODID:-//ChamberMaster//Event Calendar 2.0//EN
METHOD:PUBLISH
X-PUBLISHED-TTL:P3D
REFRESH-INTERVAL:P3D
CALSCALE:GREGORIAN
BEGIN:VEVENT
DTSTART:20130917T160000Z
DTEND:20130917T210000Z
X-MICROSOFT-CDO-ALLDAYEVENT:FALSE
SUMMARY:Business Expo
DESCRIPTION:Business to Business EXPO and Business After Hours\n\n                12:00 p.m.   5:00 p.m. Business Expo\n\n                5:30 p.m.   7:00 p.m. Business After Hours\n\n                Holiday Inn Hotel and Suites\n\n                2225 Boundary Street\, Beaufort\n\n                Register to win lots of great door prizes!\n\n                FREE   All are welcome!
X-ALT-DESC;FMTTYPE=text/html:<span style="font-size: medium\;"><span style="font-family: calibri\;">Business to Business EXPO and Business After Hours</span></span><br />\n<span style="font-size: medium\;"><span style="font-family: calibri\;">&nbsp\;&nbsp\;&nbsp\;&nbsp\;&nbsp\;&nbsp\;&nbsp\;&nbsp\;&nbsp\;&nbsp\;&nbsp\;&nbsp\;&nbsp\;&nbsp\;&nbsp\; 12:00 p.m. &ndash\; 5:00 p.m. Business Expo</span></span><br />\n<span style="font-size: medium\;"><span style="font-family: calibri\;">&nbsp\;&nbsp\;&nbsp\;&nbsp\;&nbsp\;&nbsp\;&nbsp\;&nbsp\;&nbsp\;&nbsp\;&nbsp\;&nbsp\;&nbsp\;&nbsp\;&nbsp\; 5:30 p.m. &ndash\; 7:00 p.m. Business After Hours</span></span><br />\n<span style="font-size: medium\;"><span style="font-family: calibri\;">&nbsp\;&nbsp\;&nbsp\;&nbsp\;&nbsp\;&nbsp\;&nbsp\;&nbsp\;&nbsp\;&nbsp\;&nbsp\;&nbsp\;&nbsp\;&nbsp\;&nbsp\; Holiday Inn Hotel and Suites</span></span><br />\n<span style="font-size: medium\;"><span style="font-family: calibri\;">&nbsp\;&nbsp\;&nbsp\;&nbsp\;&nbsp\;&nbsp\;&nbsp\;&nbsp\;&nbsp\;&nbsp\;&nbsp\;&nbsp\;&nbsp\;&nbsp\;&nbsp\; 2225 Boundary Street\, Beaufort</span></span><br />\n<span style="font-size: medium\;"><span style="font-family: calibri\;">&nbsp\;&nbsp\;&nbsp\;&nbsp\;&nbsp\;&nbsp\;&nbsp\;&nbsp\;&nbsp\;&nbsp\;&nbsp\;&nbsp\;&nbsp\;&nbsp\;&nbsp\; Register to win lots of great door prizes!</span></span><br />\n<span style="font-size: medium\;"><span style="font-family: calibri\;">&nbsp\;&nbsp\;&nbsp\;&nbsp\;&nbsp\;&nbsp\;&nbsp\;&nbsp\;&nbsp\;&nbsp\;&nbsp\;&nbsp\;&nbsp\;&nbsp\;&nbsp\; FREE &ndash\; All are welcome!</span></span><br />\n
LOCATION:Holiday Inn Hotel and Suites 2225 Boundary Street\, Beaufort\, SC
UID:e.1212.4972
SEQUENCE:3
DTSTAMP:20260421T200645Z
URL:http://business.beaufortchamber.org/events/details/business-expo-09-17-2013-4972
END:VEVENT

END:VCALENDAR
