BEGIN:VCALENDAR
VERSION:2.0
PRODID:-//ChamberMaster//Event Calendar 2.0//EN
METHOD:PUBLISH
X-PUBLISHED-TTL:P3D
REFRESH-INTERVAL:P3D
CALSCALE:GREGORIAN
BEGIN:VEVENT
DTSTART:20130110T130000Z
DTEND:20130111T023000Z
X-MICROSOFT-CDO-ALLDAYEVENT:FALSE
SUMMARY:Business for Breakfast
DESCRIPTION:Topic:  The power of email Marketing.
X-ALT-DESC;FMTTYPE=text/html:Topic:&nbsp\; The power of email Marketing.
LOCATION:Hilton Garden Inn\, 1500 Queen Street\, Beaufort\, SC
UID:e.1212.4682
SEQUENCE:3
DTSTAMP:20260422T101650Z
URL:http://business.beaufortchamber.org/events/details/business-for-breakfast-01-10-2013-4682
END:VEVENT

END:VCALENDAR
