BEGIN:VCALENDAR
VERSION:2.0
PRODID:-//ChamberMaster//Event Calendar 2.0//EN
METHOD:PUBLISH
X-PUBLISHED-TTL:P3D
REFRESH-INTERVAL:P3D
CALSCALE:GREGORIAN
BEGIN:VEVENT
DTSTART:20140115T130000Z
DTEND:20140115T143000Z
X-MICROSOFT-CDO-ALLDAYEVENT:FALSE
SUMMARY:Business For Breakfast
DESCRIPTION:Bullying in today's society\n\nThe play\, "When You See Something\, Say Something"\, will be presented by the Beaufort High School Drama department.\n\n\n\nBreakfast buffet will be served prior to the start of the play.
X-ALT-DESC;FMTTYPE=text/html:Bullying in today&#39\;s society<br />\nThe play\, &quot\;When You See Something\, Say Something&quot\;\, will be presented by the Beaufort High School Drama department.<br />\n<br />\nBreakfast buffet will be served prior to the start of the play.
LOCATION:Beaufort Hilton Garden Inn 1500 Queen Street
UID:e.1212.5151
SEQUENCE:3
DTSTAMP:20260421T132054Z
URL:http://business.beaufortchamber.org/events/details/business-for-breakfast-01-15-2014-5151
END:VEVENT

END:VCALENDAR
