BEGIN:VCALENDAR
VERSION:2.0
PRODID:-//ChamberMaster//Event Calendar 2.0//EN
METHOD:PUBLISH
X-PUBLISHED-TTL:P3D
REFRESH-INTERVAL:P3D
CALSCALE:GREGORIAN
BEGIN:VEVENT
DTSTART:20140319T120000Z
DTEND:20140319T133000Z
X-MICROSOFT-CDO-ALLDAYEVENT:FALSE
SUMMARY:Business for Breakfast
DESCRIPTION:South Carolina Alliance to Fix Our Roads Understand how South Carolina needs to maintain a safe\, effective and efficient transportation  infrastructure system in order to promote continued growth\, social progress\, job and economic development and quality of life.\n\n\n\nSpeaker: Eric Dickey\, Chairman
X-ALT-DESC;FMTTYPE=text/html:South Carolina Alliance to Fix Our Roads Understand how South Carolina needs to maintain a safe\, effective and efficient transportation&nbsp\; infrastructure system in order to promote continued growth\, social progress\,&nbsp\;job and economic development and quality of life.<br />\n<br />\nSpeaker: Eric Dickey\, Chairman
LOCATION:Beaufort Hilton Garden Inn 1500 Queen Street\, Beaufort
UID:e.1212.5172
SEQUENCE:3
DTSTAMP:20260421T120035Z
URL:http://business.beaufortchamber.org/events/details/business-for-breakfast-03-19-2014-5172
END:VEVENT

END:VCALENDAR
