BEGIN:VCALENDAR
VERSION:2.0
PRODID:-//ChamberMaster//Event Calendar 2.0//EN
METHOD:PUBLISH
X-PUBLISHED-TTL:P3D
REFRESH-INTERVAL:P3D
CALSCALE:GREGORIAN
BEGIN:VEVENT
DTSTART:20130320T120000Z
DTEND:20130320T133000Z
X-MICROSOFT-CDO-ALLDAYEVENT:FALSE
SUMMARY:Business for Breakfast
DESCRIPTION:Topic:  Lowcountry Housing Trust\n\nSpeaker:  Michelle Mapp\, Executive Director
X-ALT-DESC;FMTTYPE=text/html:Topic:&nbsp\; Lowcountry Housing Trust<br />\nSpeaker:&nbsp\; Michelle Mapp\, Executive Director
LOCATION:Hilton Garden Inn\, 1500 Queen Street\, Beaufort\, SC
UID:e.1212.4691
SEQUENCE:3
DTSTAMP:20260422T065811Z
URL:http://business.beaufortchamber.org/events/details/business-for-breakfast-03-20-2013-4691
END:VEVENT

END:VCALENDAR
