BEGIN:VCALENDAR
VERSION:2.0
PRODID:-//ChamberMaster//Event Calendar 2.0//EN
METHOD:PUBLISH
X-PUBLISHED-TTL:P3D
REFRESH-INTERVAL:P3D
CALSCALE:GREGORIAN
BEGIN:VEVENT
DTSTART;VALUE=DATE:20090209
DTEND;VALUE=DATE:20090210
TRANSP:TRANSPARENT
X-MICROSOFT-CDO-ALLDAYEVENT:TRUE
SUMMARY:Call of the Far Flung
DESCRIPTION:Please submit your creative writing to the Far Flung\, Beaufort County issue of ArtNews magazine\, a print publication of the Arts Council of Beaufort.  Any genre.  \n\nDeadline is April 22\, 2009 at 5pm by mail to Lisa Annelouise Rentz\, email lisa@beaufortcountyarts.com or in person at ARTworks in Beaufort Town Center.
X-ALT-DESC;FMTTYPE=text/html:Please submit your creative writing to the Far Flung\, Beaufort County issue of ArtNews magazine\, a print publication of the Arts Council of Beaufort.  Any genre.  \n\nDeadline is April 22\, 2009 at 5pm by mail to Lisa Annelouise Rentz\, email lisa@beaufortcountyarts.com or in person at ARTworks in Beaufort Town Center.
LOCATION:
UID:e.1212.2976
SEQUENCE:3
DTSTAMP:20260425T112454Z
URL:http://business.beaufortchamber.org/events/details/call-of-the-far-flung-02-09-2009-2976
END:VEVENT

END:VCALENDAR
