BEGIN:VCALENDAR
VERSION:2.0
PRODID:-//ChamberMaster//Event Calendar 2.0//EN
METHOD:PUBLISH
X-PUBLISHED-TTL:P3D
REFRESH-INTERVAL:P3D
CALSCALE:GREGORIAN
BEGIN:VEVENT
DTSTART:20111120T190000Z
DTEND:20111120T220000Z
X-MICROSOFT-CDO-ALLDAYEVENT:FALSE
SUMMARY:Callawassie Island Craft Fair
DESCRIPTION:Join us for a pre- holiday season craft show and bring your Christmas Wish List
X-ALT-DESC;FMTTYPE=text/html:Join us for a pre- holiday season craft show and bring your&nbsp\;Christmas Wish List 
LOCATION:Callawassie Island Clubhouse 22 Callawassie Club Dr Callawassie Island\, SC
UID:e.1212.4344
SEQUENCE:3
DTSTAMP:20260423T074046Z
URL:http://business.beaufortchamber.org/events/details/callawassie-island-craft-fair-11-20-2011-4344
END:VEVENT

END:VCALENDAR
