BEGIN:VCALENDAR
VERSION:2.0
PRODID:-//ChamberMaster//Event Calendar 2.0//EN
METHOD:PUBLISH
X-PUBLISHED-TTL:P3D
REFRESH-INTERVAL:P3D
CALSCALE:GREGORIAN
BEGIN:VEVENT
DTSTART;VALUE=DATE:20131031
DTEND;VALUE=DATE:20131101
TRANSP:TRANSPARENT
X-MICROSOFT-CDO-ALLDAYEVENT:TRUE
SUMMARY:Callawassie & Spring Island BLOOD DRIVES
DESCRIPTION:Community Blood Drives at Callawassie Island and Spring Island with The Blood Alliance
X-ALT-DESC;FMTTYPE=text/html:Community Blood Drives at Callawassie Island and Spring Island with The Blood Alliance<br />\n
LOCATION:Callawassie Island Clubhouse\, Spring Island Summer House
UID:e.1212.5119
SEQUENCE:3
DTSTAMP:20260421T182243Z
URL:http://business.beaufortchamber.org/events/details/callawassie-spring-island-blood-drives-10-31-2013-5119
END:VEVENT

END:VCALENDAR
