BEGIN:VCALENDAR
VERSION:2.0
PRODID:-//ChamberMaster//Event Calendar 2.0//EN
METHOD:PUBLISH
X-PUBLISHED-TTL:P3D
REFRESH-INTERVAL:P3D
CALSCALE:GREGORIAN
BEGIN:VEVENT
DTSTART;VALUE=DATE:20081201
DTEND;VALUE=DATE:20081202
TRANSP:TRANSPARENT
X-MICROSOFT-CDO-ALLDAYEVENT:TRUE
SUMMARY:CAPA 'Angel Trees'
DESCRIPTION:Visit "Angel Trees" in stores & restaurants around town\, take a wish\, shop and return your gift for a needy\nchild to the store where you picked it up.
X-ALT-DESC;FMTTYPE=text/html:Visit "Angel Trees" in stores & restaurants around town\, take a wish\, shop and return your gift for a needy\nchild to the store where you picked it up.
LOCATION:
UID:e.1212.2567
SEQUENCE:3
DTSTAMP:20260425T140634Z
URL:http://business.beaufortchamber.org/events/details/capa-angel-trees-12-01-2008-2567
END:VEVENT

END:VCALENDAR
