BEGIN:VCALENDAR
VERSION:2.0
PRODID:-//ChamberMaster//Event Calendar 2.0//EN
METHOD:PUBLISH
X-PUBLISHED-TTL:P3D
REFRESH-INTERVAL:P3D
CALSCALE:GREGORIAN
BEGIN:VEVENT
DTSTART;VALUE=DATE:20091201
DTEND;VALUE=DATE:20091202
TRANSP:TRANSPARENT
X-MICROSOFT-CDO-ALLDAYEVENT:TRUE
SUMMARY:CAPA Angel Trees
DESCRIPTION:Visit any of CAPA's "angel trees" in stores and restaurants around town\, select a wish\, purchase the item and return the wrapped gift to the store or restaurant.  Help us give our local children the holiday they deserve!
X-ALT-DESC;FMTTYPE=text/html:Visit any of CAPA's "angel trees" in stores and restaurants around town\, select a wish\, purchase the item and return the wrapped gift to the store or restaurant.  Help us give our local children the holiday they deserve!
LOCATION:
UID:e.1212.3004
SEQUENCE:3
DTSTAMP:20260424T193412Z
URL:http://business.beaufortchamber.org/events/details/capa-angel-trees-12-01-2009-3004
END:VEVENT

END:VCALENDAR
