BEGIN:VCALENDAR
VERSION:2.0
PRODID:-//ChamberMaster//Event Calendar 2.0//EN
METHOD:PUBLISH
X-PUBLISHED-TTL:P3D
REFRESH-INTERVAL:P3D
CALSCALE:GREGORIAN
BEGIN:VEVENT
DTSTART;VALUE=DATE:20120316
DTEND;VALUE=DATE:20120317
TRANSP:TRANSPARENT
X-MICROSOFT-CDO-ALLDAYEVENT:TRUE
SUMMARY:CAPA Golf Challenge
DESCRIPTION:Play a round of golf at Hampton Hall! Texas Shamble Format with 11 am shotgun start. Players receive a round of golf with cart\, practice range and balls\, tee gift\, box lunch\, course beverages and entry into the Players' Award Party immediately following golf. Register as a team of four for $520 or as an individual for $140.
X-ALT-DESC;FMTTYPE=text/html:Play a round of golf at Hampton Hall! Texas Shamble Format with 11 am shotgun start. Players receive a round of golf with cart\, practice range and balls\, tee gift\, box lunch\, course beverages and entry into the Players&#39\; Award Party immediately following golf. Register as a team of four for $520 or as an individual for $140. 
LOCATION:Hampton Hall
UID:e.1212.4504
SEQUENCE:3
DTSTAMP:20260420T083243Z
URL:http://business.beaufortchamber.org/events/details/capa-golf-challenge-03-16-2012-4504
END:VEVENT

END:VCALENDAR
