BEGIN:VCALENDAR
VERSION:2.0
PRODID:-//ChamberMaster//Event Calendar 2.0//EN
METHOD:PUBLISH
X-PUBLISHED-TTL:P3D
REFRESH-INTERVAL:P3D
CALSCALE:GREGORIAN
BEGIN:VEVENT
DTSTART;VALUE=DATE:20130308
DTEND;VALUE=DATE:20130309
TRANSP:TRANSPARENT
X-MICROSOFT-CDO-ALLDAYEVENT:TRUE
SUMMARY:CAPA Golf Challenge - sponsored by Waste Management
DESCRIPTION:19th Annual CAPA (Child Abuse Prevention Association) Golf Challenge.  Texas Shamble Format.  Old Tabby Links\, Spring Island.  Register as a team of 4 or individually (individuals will be paired with other golfers)  Included is a round of golf on a private course\, a tee gift\, box lunch\, course beverages and entry into the Players' Award Party (immediately following golf) with hors d' oeuvres and 2 drink tickets provided.
X-ALT-DESC;FMTTYPE=text/html:19th Annual CAPA (Child Abuse Prevention Association) Golf Challenge.&nbsp\; Texas Shamble Format.&nbsp\; Old Tabby Links\, Spring Island.&nbsp\; Register as a team of 4 or individually (individuals will be paired with other golfers)&nbsp\; Included is a round of golf on a private course\, a tee gift\, box lunch\, course beverages and entry into the Players&#39\; Award Party (immediately following golf) with hors d&#39\; oeuvres and 2 drink tickets provided.
LOCATION:Old Tabby Links\, Spring Island
UID:e.1212.4764
SEQUENCE:3
DTSTAMP:20260422T065606Z
URL:http://business.beaufortchamber.org/events/details/capa-golf-challenge-sponsored-by-waste-management-03-08-2013-4764
END:VEVENT

END:VCALENDAR
