BEGIN:VCALENDAR
VERSION:2.0
PRODID:-//ChamberMaster//Event Calendar 2.0//EN
METHOD:PUBLISH
X-PUBLISHED-TTL:P3D
REFRESH-INTERVAL:P3D
CALSCALE:GREGORIAN
BEGIN:VEVENT
DTSTART:20130413T110000Z
DTEND:20130413T140000Z
X-MICROSOFT-CDO-ALLDAYEVENT:FALSE
SUMMARY:CAPA Step Up For Kids 5K
DESCRIPTION:Each April is Child Abuse Prevention Month and CAPA is excited to host the Step Up For Kids 5K walk/run to raise awareness and funds necessary to ensure prevention and intervention programs are and will be available for Beaufort County's children.\n\n\n\n7 AM registration - 8 AM start\n\n\n\nPre-race packet pickup Thursday\, APril 11\, 10am - 6pm at teh CAPA office:  714 14th Street\, Port Royal.\n\n\n\nAwards to Top Overall Male and Female and top three in each age category:  0-12\, 13-19\, 20-29\, 30-39\, 40-49\, 50-59\, 60-69\, 70+.  Offical timing by Charlestowne Road Race Services.\n\n\n\nRegister online at www.eventbrite.com or call 843.524.4350
X-ALT-DESC;FMTTYPE=text/html:<span new="" style="font-family: \; font-size: 11pt\;" times="">Each April is Child Abuse Prevention Month and CAPA is excited to host the Step Up For Kids 5K walk/run</span><span new="" style="font-family: \; font-size: 11pt\;" times="">&nbsp\;to raise awareness and funds necessary to ensure prevention and intervention programs are and will be available for Beaufort County&rsquo\;s children.</span><br />\n<br />\n7 AM registration - 8 AM start<br />\n<br />\nPre-race packet pickup Thursday\, APril 11\, 10am - 6pm at teh CAPA office: &nbsp\;714 14th Street\, Port Royal.<br />\n<br />\nAwards to Top Overall Male and Female and top three in each age category: &nbsp\;0-12\, 13-19\, 20-29\, 30-39\, 40-49\, 50-59\, 60-69\, 70+.&nbsp\;&nbsp\;Offical timing by Charlestowne Road Race Services.<br />\n<br />\nRegister online at www.eventbrite.com or call 843.524.4350
LOCATION:Live Oaks Park\, Port Royal
UID:e.1212.4926
SEQUENCE:3
DTSTAMP:20260422T050620Z
URL:http://business.beaufortchamber.org/events/details/capa-step-up-for-kids-5k-04-13-2013-4926
END:VEVENT

END:VCALENDAR
