BEGIN:VCALENDAR
VERSION:2.0
PRODID:-//ChamberMaster//Event Calendar 2.0//EN
METHOD:PUBLISH
X-PUBLISHED-TTL:P3D
REFRESH-INTERVAL:P3D
CALSCALE:GREGORIAN
BEGIN:VEVENT
DTSTART:20120421T120000Z
DTEND:20120421T140000Z
X-MICROSOFT-CDO-ALLDAYEVENT:FALSE
SUMMARY:CAPA Step Up For Kids 5K/10K
DESCRIPTION:Walk or run in the Step Up For Kids 5k/10K! All proceeds benefit the Child Abuse Prevention Association (CAPA).
X-ALT-DESC;FMTTYPE=text/html:Walk or run in the Step Up For Kids 5k/10K! All proceeds benefit the Child Abuse Prevention Association (CAPA).
LOCATION:Meet at Waterfront Park\, downtown Beaufort
UID:e.1212.4506
SEQUENCE:3
DTSTAMP:20260423T011120Z
URL:http://business.beaufortchamber.org/events/details/capa-step-up-for-kids-5k-10k-04-21-2012-4506
END:VEVENT

END:VCALENDAR
