BEGIN:VCALENDAR
VERSION:2.0
PRODID:-//ChamberMaster//Event Calendar 2.0//EN
METHOD:PUBLISH
X-PUBLISHED-TTL:P3D
REFRESH-INTERVAL:P3D
CALSCALE:GREGORIAN
BEGIN:VEVENT
DTSTART;VALUE=DATE:20121224
DTEND;VALUE=DATE:20121225
TRANSP:TRANSPARENT
X-MICROSOFT-CDO-ALLDAYEVENT:TRUE
SUMMARY:Chamber offices closed
DESCRIPTION:
X-ALT-DESC;FMTTYPE=text/html:
LOCATION:
UID:e.1212.4696
SEQUENCE:3
DTSTAMP:20260422T115622Z
URL:http://business.beaufortchamber.org/events/details/chamber-offices-closed-12-24-2012-4696
END:VEVENT

END:VCALENDAR
