BEGIN:VCALENDAR
VERSION:2.0
PRODID:-//ChamberMaster//Event Calendar 2.0//EN
METHOD:PUBLISH
X-PUBLISHED-TTL:P3D
REFRESH-INTERVAL:P3D
CALSCALE:GREGORIAN
BEGIN:VEVENT
DTSTART;VALUE=DATE:20081210
DTEND;VALUE=DATE:20081211
TRANSP:TRANSPARENT
X-MICROSOFT-CDO-ALLDAYEVENT:TRUE
SUMMARY:Cheryl Mansson\, LPC ThetaHealing Event
DESCRIPTION:Free demonstration & description of  the meditational process that creates psychological\, physical and spiritual transformation.
X-ALT-DESC;FMTTYPE=text/html:Free demonstration & description of  the meditational process that creates psychological\, physical and spiritual transformation.
LOCATION:
UID:e.1212.2748
SEQUENCE:3
DTSTAMP:20260425T141218Z
URL:http://business.beaufortchamber.org/events/details/cheryl-mansson-lpc-thetahealing-event-12-10-2008-2748
END:VEVENT

END:VCALENDAR
