BEGIN:VCALENDAR
VERSION:2.0
PRODID:-//ChamberMaster//Event Calendar 2.0//EN
METHOD:PUBLISH
X-PUBLISHED-TTL:P3D
REFRESH-INTERVAL:P3D
CALSCALE:GREGORIAN
BEGIN:VEVENT
DTSTART;VALUE=DATE:20100205
DTEND;VALUE=DATE:20100206
TRANSP:TRANSPARENT
X-MICROSOFT-CDO-ALLDAYEVENT:TRUE
SUMMARY:Chic SoShoeLites - Networking & Nightcaps Benefit - 'A Heeling for Haiti'
DESCRIPTION:Come join us a an evening of "Community Socializing & Fundraising" !\nThis event will provide some of our local businesses an opportunity to gain exposure and create awarness of their businesses by showcasing their products\, services or talents at one of our booths. \nThere will be food\, give-a-ways every 15 minutes and lots of fun.  \nEntertainment: The Movement Dance Company\nLive music: Halfway to Infinity\,  \nOur local church ministry mission and releif assistance/funding program is asking you to donate to the survivors of the Haiti earthquake.  We are asking you to bring a new pair of shoes\, nearly new pair of shoes or financial donations will be accepted.\nCost: Free and open to the public
X-ALT-DESC;FMTTYPE=text/html:Come join us a an evening of "Community Socializing & Fundraising" !\nThis event will provide some of our local businesses an opportunity to gain exposure and create awarness of their businesses by showcasing their products\, services or talents at one of our booths. \nThere will be food\, give-a-ways every 15 minutes and lots of fun.  \nEntertainment: The Movement Dance Company\nLive music: Halfway to Infinity\,  \nOur local church ministry mission and releif assistance/funding program is asking you to donate to the survivors of the Haiti earthquake.  We are asking you to bring a new pair of shoes\, nearly new pair of shoes or financial donations will be accepted.\nCost: Free and open to the public
LOCATION:
UID:e.1212.3755
SEQUENCE:3
DTSTAMP:20260424T171520Z
URL:http://business.beaufortchamber.org/events/details/chic-soshoelites-networking-nightcaps-benefit-a-heeling-for-haiti-02-05-2010-3755
END:VEVENT

END:VCALENDAR
