BEGIN:VCALENDAR
VERSION:2.0
PRODID:-//ChamberMaster//Event Calendar 2.0//EN
METHOD:PUBLISH
X-PUBLISHED-TTL:P3D
REFRESH-INTERVAL:P3D
CALSCALE:GREGORIAN
BEGIN:VEVENT
DTSTART;VALUE=DATE:20090328
DTEND;VALUE=DATE:20090329
TRANSP:TRANSPARENT
X-MICROSOFT-CDO-ALLDAYEVENT:TRUE
SUMMARY:Chick-fil-A / Best Buy Rock Band Night
DESCRIPTION:Chick-fil-A and Best Buy have teamed up to bring you a fun night of food and rockin' !  Enjoy a delicious meal then rock out on one of three big screen TVs.  Think you're a Rock Band star?  Prove it !
X-ALT-DESC;FMTTYPE=text/html:Chick-fil-A and Best Buy have teamed up to bring you a fun night of food and rockin' !  Enjoy a delicious meal then rock out on one of three big screen TVs.  Think you're a Rock Band star?  Prove it !
LOCATION:
UID:e.1212.3082
SEQUENCE:3
DTSTAMP:20260425T125622Z
URL:http://business.beaufortchamber.org/events/details/chick-fil-a-best-buy-rock-band-night-03-28-2009-3082
END:VEVENT

END:VCALENDAR
