BEGIN:VCALENDAR
VERSION:2.0
PRODID:-//ChamberMaster//Event Calendar 2.0//EN
METHOD:PUBLISH
X-PUBLISHED-TTL:P3D
REFRESH-INTERVAL:P3D
CALSCALE:GREGORIAN
BEGIN:VEVENT
DTSTART;VALUE=DATE:20090327
DTEND;VALUE=DATE:20090328
TRANSP:TRANSPARENT
X-MICROSOFT-CDO-ALLDAYEVENT:TRUE
SUMMARY:Chick-fil-A Military Appreciation Day
DESCRIPTION:As a "Thank You" to our local military men and women\, Chick-Fil-A Beaufort will be giving away FREE Original Chick-Fil-A Sandwiches to all military personnel in uniform between the hours of 11:30am and 1:00pm.
X-ALT-DESC;FMTTYPE=text/html:As a "Thank You" to our local military men and women\, Chick-Fil-A Beaufort will be giving away FREE Original Chick-Fil-A Sandwiches to all military personnel in uniform between the hours of 11:30am and 1:00pm.
LOCATION:
UID:e.1212.3081
SEQUENCE:3
DTSTAMP:20260425T111900Z
URL:http://business.beaufortchamber.org/events/details/chick-fil-a-military-appreciation-day-03-27-2009-3081
END:VEVENT

END:VCALENDAR
