BEGIN:VCALENDAR
VERSION:2.0
PRODID:-//ChamberMaster//Event Calendar 2.0//EN
METHOD:PUBLISH
X-PUBLISHED-TTL:P3D
REFRESH-INTERVAL:P3D
CALSCALE:GREGORIAN
BEGIN:VEVENT
DTSTART;VALUE=DATE:20111225
DTEND;VALUE=DATE:20111226
TRANSP:TRANSPARENT
X-MICROSOFT-CDO-ALLDAYEVENT:TRUE
SUMMARY:Christmas Day Restaurant Openings
DESCRIPTION:IHOP\n\nHuddle House\n\nGolden Corral   7:30AM to 9:00PM\n\nRosie O'Grady's Irish Sports Pub   5:00PM   2:00AM\n\nRuby Tuesday   3:00PM to 9:00PM\n\nSake House   11:30AM to 10:00PM\n\n \n\nPlease note that this list is in addition to most fast-food places also being open.
X-ALT-DESC;FMTTYPE=text/html:IHOP<br />\nHuddle House<br />\nGolden Corral &ndash\; 7:30AM to 9:00PM<br />\nRosie O&rsquo\;Grady&rsquo\;s Irish Sports Pub &ndash\; 5:00PM &ndash\; 2:00AM<br />\nRuby Tuesday &ndash\; 3:00PM to 9:00PM<br />\nSake House &ndash\; 11:30AM to 10:00PM<br />\n&nbsp\;<br />\nPlease note that this list is in addition to most fast-food places also being open.
LOCATION:
UID:e.1212.4357
SEQUENCE:3
DTSTAMP:20260423T072712Z
URL:http://business.beaufortchamber.org/events/details/christmas-day-restaurant-openings-12-25-2011-4357
END:VEVENT

END:VCALENDAR
