BEGIN:VCALENDAR
VERSION:2.0
PRODID:-//ChamberMaster//Event Calendar 2.0//EN
METHOD:PUBLISH
X-PUBLISHED-TTL:P3D
REFRESH-INTERVAL:P3D
CALSCALE:GREGORIAN
BEGIN:VEVENT
DTSTART:20131208T200000Z
DTEND:20131208T210000Z
X-MICROSOFT-CDO-ALLDAYEVENT:FALSE
SUMMARY:Christmas Parade - Downtown Beaufort
DESCRIPTION:For more information:  www.downtownbeaufort.com
X-ALT-DESC;FMTTYPE=text/html:For more information:&nbsp\; www.downtownbeaufort.com
LOCATION:
UID:e.1212.5079
SEQUENCE:3
DTSTAMP:20260421T151745Z
URL:http://business.beaufortchamber.org/events/details/christmas-parade-downtown-beaufort-12-08-2013-5079
END:VEVENT

END:VCALENDAR
