BEGIN:VCALENDAR
VERSION:2.0
PRODID:-//ChamberMaster//Event Calendar 2.0//EN
METHOD:PUBLISH
X-PUBLISHED-TTL:P3D
REFRESH-INTERVAL:P3D
CALSCALE:GREGORIAN
BEGIN:VEVENT
DTSTART:20140408T130000Z
DTEND:20140413T220000Z
X-MICROSOFT-CDO-ALLDAYEVENT:FALSE
SUMMARY:Christopher Columbus' Ships in Beaufort
DESCRIPTION:We are excited to announce that two Christopher Columbus ships\, The Ni a and Pinta will be here in Beaufort!! The replica ships will be docking at the Downtown Marina in Beaufort. The general public is invited to take a tour!!\n\n\n\nApril 8 is Student Appreciation Day: $4 for school Children and $5 for Adults/Seniors.\n\n\n\nApril 9 - April 13 prices will be as follows: $8 adults\, $7 Seniors\, $6 Kids and children under 4 are free.\n\n\n\nGroups of 15 or more can call to reserve a guided tour for $5/person - 787.672.2152
X-ALT-DESC;FMTTYPE=text/html:We are excited to announce that two Christopher Columbus ships\, <em>The Ni&ntilde\;a</em> and<em> Pinta</em> will be here in Beaufort!! The replica ships will be docking at the Downtown Marina in Beaufort. The general public is invited to take a tour!!<br />\n<br />\nApril 8 is Student Appreciation Day: $4 for school Children and $5 for Adults/Seniors.<br />\n<br />\nApril 9 - April 13 prices will be as follows: $8 adults\, $7 Seniors\, $6 Kids and children under 4 are free.<br />\n<br />\nGroups of 15 or more can call to reserve a guided tour for $5/person - 787.672.2152
LOCATION:Downtown Beaufort Marina
UID:e.1212.5323
SEQUENCE:3
DTSTAMP:20260423T092542Z
URL:http://business.beaufortchamber.org/events/details/christopher-columbus-ships-in-beaufort-04-08-2014-5323
END:VEVENT

END:VCALENDAR
