BEGIN:VCALENDAR
VERSION:2.0
PRODID:-//ChamberMaster//Event Calendar 2.0//EN
METHOD:PUBLISH
X-PUBLISHED-TTL:P3D
REFRESH-INTERVAL:P3D
CALSCALE:GREGORIAN
BEGIN:VEVENT
DTSTART:20130216T150000Z
DTEND:20130216T170000Z
X-MICROSOFT-CDO-ALLDAYEVENT:FALSE
SUMMARY:Citizens Opposed to Domestic Abuse (CODA) 5K Run
DESCRIPTION:Event Details\n\n	\n		The race starts at 10 a.m. on February 16\, 2013. The course is flat and quick\, and offers a pleasant trip through scenic neighborhoods and Sanctuary Golf Course on Cat Island -- located at 8 Waveland Ave.\, Beaufort\, SC 29907. The start and end points\, and registration area\, will be near the tennis courts.\n	\n		Registration costs $25 for the race and $20 for the walk. Online registration  remains open until February 14\, 2013\, at 12:00 p.m. PST. Register by mail until February 12. Same day registration fees increase to $30 for the race and $25 for the walk.\n	\n		Groups of five or more receive $5 discount per runner\; to receive the discount you must register by mail. All forms must be sent together\, with each registrant taking $5 off.\n	\n		For children ages 9 and under\, a $5 donation is suggested in lieu of registration. All children 9 and under will receive awards.\n	\n		Packet pick-up will be available at Palmetto Running Company's Beaufort location on February 15th between 4 and 6 p.m.\, or on-site between 9 and 9:30 a.m. on the day of the race. PRC is located at 207 West Street\, Beaufort\, SC\, and can be reached at 843-379-1018 or online at www.palmettorunningcompany.com.\n	\n		T-shirts are guaranteed to the first 100 participants registered.\n	\n		Age Divisions: 9 and under\, 10-19\, 20-29\, 30-39\, 40-49\, 50-59\, 60-69\, 70 and over.\n	\n		Awards for top 2 overall male and female\, medals given to top 3 in each age division\, no duplications.\n	\n		Questions? Call (843) 770-1074 ext.221\, or e-mail codarace4love(@)gmail.com
X-ALT-DESC;FMTTYPE=text/html:<h2>\n	Event Details</h2>\n<ul>\n	<li>\n		The race starts at 10 a.m. on February 16\, 2013. The course is flat and quick\, and offers a pleasant trip through scenic neighborhoods and Sanctuary Golf Course on Cat Island -- located at 8 Waveland Ave.\, Beaufort\, SC 29907. The start and end points\, and registration area\, will be near the tennis courts.</li>\n	<li>\n		Registration costs $25 for the race and $20 for the walk. <a href="http://www.active.com/running/beaufort-sc/coda-race4love-5k-run-walk-2013"><strong><font color="#333399">Online registration</font></strong></a>&nbsp\; remains open until February 14\, 2013\, at 12:00 p.m. PST. <a href="http://www.codalowcountry.org/docs/CODARace4LoveReg.pdf"><strong><font color="#333399">Register by mail</font></strong></a> until February 12. Same day registration fees increase to $30 for the race and $25 for the walk.</li>\n	<li>\n		Groups of five or more receive $5 discount per runner\; to receive the discount you must register by mail. All forms must be sent together\, with each registrant taking $5 off.</li>\n	<li>\n		For children ages 9 and under\, a $5 donation is suggested in lieu of registration. All children 9 and under will receive awards.</li>\n	<li>\n		Packet pick-up will be available at <a href="http://www.palmettorunningcompany.com/"><strong><font color="#333399">Palmetto Running Company&#39\;s</font></strong></a> Beaufort location on February 15th between 4 and 6 p.m.\, or on-site between 9 and 9:30 a.m. on the day of the race. PRC is located at 207 West Street\, Beaufort\, SC\, and can be reached at 843-379-1018 or online at <a href="http://www.palmettorunningcompany.com/"><strong><font color="#333399">www.palmettorunningcompany.com</font></strong></a>.</li>\n	<li>\n		T-shirts are guaranteed to the first 100 participants registered.</li>\n	<li>\n		Age Divisions: 9 and under\, 10-19\, 20-29\, 30-39\, 40-49\, 50-59\, 60-69\, 70 and over.</li>\n	<li>\n		Awards for top 2 overall male and female\, medals given to top 3 in each age division\, no duplications.</li>\n	<li>\n		Questions? Call (843) 770-1074 ext.221\, or e-mail codarace4love(@)gmail.com</li>\n</ul>\n
LOCATION:Cat Island\, Beaufort\, SC
UID:e.1212.4725
SEQUENCE:3
DTSTAMP:20260422T084430Z
URL:http://business.beaufortchamber.org/events/details/citizens-opposed-to-domestic-abuse-coda-5k-run-02-16-2013-4725
END:VEVENT

END:VCALENDAR
