BEGIN:VCALENDAR
VERSION:2.0
PRODID:-//ChamberMaster//Event Calendar 2.0//EN
METHOD:PUBLISH
X-PUBLISHED-TTL:P3D
REFRESH-INTERVAL:P3D
CALSCALE:GREGORIAN
BEGIN:VEVENT
DTSTART;VALUE=DATE:20110110
DTEND;VALUE=DATE:20110111
TRANSP:TRANSPARENT
X-MICROSOFT-CDO-ALLDAYEVENT:TRUE
SUMMARY:City of Beaufort - Hospitality Fees
DESCRIPTION:1/03/2011 Hospitality Fees\, 2nd Quarter  $13\,070.01 Check 00125802
X-ALT-DESC;FMTTYPE=text/html:1/03/2011 Hospitality Fees\, 2nd Quarter  $13\,070.01 Check 00125802
LOCATION:
UID:e.1212.3916
SEQUENCE:3
DTSTAMP:20260423T234842Z
URL:http://business.beaufortchamber.org/events/details/city-of-beaufort-hospitality-fees-01-10-2011-3916
END:VEVENT

END:VCALENDAR
