BEGIN:VCALENDAR
VERSION:2.0
PRODID:-//ChamberMaster//Event Calendar 2.0//EN
METHOD:PUBLISH
X-PUBLISHED-TTL:P3D
REFRESH-INTERVAL:P3D
CALSCALE:GREGORIAN
BEGIN:VEVENT
DTSTART;VALUE=DATE:20101008
DTEND;VALUE=DATE:20101009
TRANSP:TRANSPARENT
X-MICROSOFT-CDO-ALLDAYEVENT:TRUE
SUMMARY:City of Beaufort Hospitatlity Fees July - Sept 1st Qtr
DESCRIPTION:Hospitality Fees First Quarter July - September 2010
X-ALT-DESC;FMTTYPE=text/html:Hospitality Fees First Quarter July - September 2010
LOCATION:
UID:e.1212.3871
SEQUENCE:3
DTSTAMP:20260424T054538Z
URL:http://business.beaufortchamber.org/events/details/city-of-beaufort-hospitatlity-fees-july-sept-1st-qtr-10-08-2010-3871
END:VEVENT

END:VCALENDAR
