BEGIN:VCALENDAR
VERSION:2.0
PRODID:-//ChamberMaster//Event Calendar 2.0//EN
METHOD:PUBLISH
X-PUBLISHED-TTL:P3D
REFRESH-INTERVAL:P3D
CALSCALE:GREGORIAN
BEGIN:VEVENT
DTSTART;VALUE=DATE:20110429
DTEND;VALUE=DATE:20110430
TRANSP:TRANSPARENT
X-MICROSOFT-CDO-ALLDAYEVENT:TRUE
SUMMARY:City of Beaufort - Misc Checks
DESCRIPTION:Generic Folder for all City of Beaufort Checks
X-ALT-DESC;FMTTYPE=text/html:Generic Folder for all City of Beaufort Checks
LOCATION:
UID:e.1212.3929
SEQUENCE:3
DTSTAMP:20260423T182624Z
URL:http://business.beaufortchamber.org/events/details/city-of-beaufort-misc-checks-04-29-2011-3929
END:VEVENT

END:VCALENDAR
