BEGIN:VCALENDAR
VERSION:2.0
PRODID:-//ChamberMaster//Event Calendar 2.0//EN
METHOD:PUBLISH
X-PUBLISHED-TTL:P3D
REFRESH-INTERVAL:P3D
CALSCALE:GREGORIAN
BEGIN:VEVENT
DTSTART:20131207T150000Z
DTEND:20131207T190000Z
X-MICROSOFT-CDO-ALLDAYEVENT:FALSE
SUMMARY:Classic and Antique Car Show at Habersham
DESCRIPTION:Classic and Antique Car Show at Habersham. Sponsored by the Classic Car & Truck Club of Beaufort to benefit Thumbs Up.\n\n\n\nThumbs Up\, a United Way agency\, is an after school tutoring program for elementary school children located on Hamar Street in Beaufort.\n\n\n\nEvent will include: Classic cars\, Bake Sale\, 50/50 Raffle\, music by Billy Drysdale...\n\n\n\nSurprise visit from SANTA!
X-ALT-DESC;FMTTYPE=text/html:Classic and Antique Car Show at Habersham. Sponsored by the Classic Car &amp\; Truck Club of Beaufort to benefit Thumbs Up.<br />\n<br />\nThumbs Up\, a United Way agency\, is an after school tutoring program for elementary school children located on Hamar Street in Beaufort.<br />\n<br />\nEvent will include: Classic cars\, Bake Sale\, 50/50 Raffle\, music by Billy Drysdale...<br />\n<br />\nSurprise visit from SANTA!&nbsp\;&nbsp\;&nbsp\;&nbsp\;
LOCATION:Habersham
UID:e.1212.5132
SEQUENCE:3
DTSTAMP:20260421T152216Z
URL:http://business.beaufortchamber.org/events/details/classic-and-antique-car-show-at-habersham-12-07-2013-5132
END:VEVENT

END:VCALENDAR
