BEGIN:VCALENDAR
VERSION:2.0
PRODID:-//ChamberMaster//Event Calendar 2.0//EN
METHOD:PUBLISH
X-PUBLISHED-TTL:P3D
REFRESH-INTERVAL:P3D
CALSCALE:GREGORIAN
BEGIN:VEVENT
DTSTART:20140117T130000Z
DTEND:20140118T020000Z
X-MICROSOFT-CDO-ALLDAYEVENT:FALSE
SUMMARY:Coffee With Colleagues
DESCRIPTION:Free Networking Event for our members. Bring your business cards.
X-ALT-DESC;FMTTYPE=text/html:Free Networking Event for our members. Bring your business cards.
LOCATION:The Stillness Gym 1105 Middleton Street\, Beaufort
UID:e.1212.5148
SEQUENCE:3
DTSTAMP:20260421T132025Z
URL:http://business.beaufortchamber.org/events/details/coffee-with-colleagues-01-17-2014-5148
END:VEVENT

END:VCALENDAR
