BEGIN:VCALENDAR
VERSION:2.0
PRODID:-//ChamberMaster//Event Calendar 2.0//EN
METHOD:PUBLISH
X-PUBLISHED-TTL:P3D
REFRESH-INTERVAL:P3D
CALSCALE:GREGORIAN
BEGIN:VEVENT
DTSTART:20120120T133000Z
DTEND:20120120T143000Z
X-MICROSOFT-CDO-ALLDAYEVENT:FALSE
SUMMARY:COFFEE WITH COLLEAGUES
DESCRIPTION:Free networking event for members!
X-ALT-DESC;FMTTYPE=text/html:<span style="font-size: 14px">Free networking event for members!</span>
LOCATION:10 B Market Habersham\, SC
UID:e.1212.4497
SEQUENCE:3
DTSTAMP:20260423T040854Z
URL:http://business.beaufortchamber.org/events/details/coffee-with-colleagues-01-20-2012-4497
END:VEVENT

END:VCALENDAR
