BEGIN:VCALENDAR
VERSION:2.0
PRODID:-//ChamberMaster//Event Calendar 2.0//EN
METHOD:PUBLISH
X-PUBLISHED-TTL:P3D
REFRESH-INTERVAL:P3D
CALSCALE:GREGORIAN
BEGIN:VEVENT
DTSTART:20140220T133000Z
DTEND:20140221T023000Z
X-MICROSOFT-CDO-ALLDAYEVENT:FALSE
SUMMARY:Coffee with Colleagues
DESCRIPTION:Free networking opportunity for member. Bring your business cards! If you bring a canned food item you will be entered in the drawing for a special door prize.\n\n\n\nHosted by: Marine Federal Credit Union\n\nCo-hosted by: Second Helpings
X-ALT-DESC;FMTTYPE=text/html:Free networking opportunity for member. Bring your business cards! If you bring a canned food item you will be entered in the drawing for a special door prize.<br />\n<br />\nHosted by: Marine Federal Credit Union<br />\nCo-hosted by: Second Helpings
LOCATION:Marine Federal Credit Union 819 Paris Island Gateway
UID:e.1212.5178
SEQUENCE:3
DTSTAMP:20260421T114431Z
URL:http://business.beaufortchamber.org/events/details/coffee-with-colleagues-02-20-2014-5178
END:VEVENT

END:VCALENDAR
