BEGIN:VCALENDAR
VERSION:2.0
PRODID:-//ChamberMaster//Event Calendar 2.0//EN
METHOD:PUBLISH
X-PUBLISHED-TTL:P3D
REFRESH-INTERVAL:P3D
CALSCALE:GREGORIAN
BEGIN:VEVENT
DTSTART:20140321T120000Z
DTEND:20140321T130000Z
X-MICROSOFT-CDO-ALLDAYEVENT:FALSE
SUMMARY:Coffee With Colleagues
DESCRIPTION:Free networking opportunity for members. Bring your business cards!
X-ALT-DESC;FMTTYPE=text/html:Free networking opportunity for members. Bring your business cards!
LOCATION:Verizon Wireless 264 Robert Smalls Parkway\, Beaufort
UID:e.1212.5219
SEQUENCE:3
DTSTAMP:20260421T115824Z
URL:http://business.beaufortchamber.org/events/details/coffee-with-colleagues-03-21-2014-5219
END:VEVENT

END:VCALENDAR
