BEGIN:VCALENDAR
VERSION:2.0
PRODID:-//ChamberMaster//Event Calendar 2.0//EN
METHOD:PUBLISH
X-PUBLISHED-TTL:P3D
REFRESH-INTERVAL:P3D
CALSCALE:GREGORIAN
BEGIN:VEVENT
DTSTART:20140418T123000Z
DTEND:20140418T133000Z
X-MICROSOFT-CDO-ALLDAYEVENT:FALSE
SUMMARY:Coffee With Colleagues
DESCRIPTION:Hosted By: YMCA of Beaufort County\n\nFree networking opportunity for members.\n\nBring your business cards!
X-ALT-DESC;FMTTYPE=text/html:Hosted By: YMCA of Beaufort County<br />\nFree networking opportunity for members.<br />\nBring your business cards!
LOCATION:1801 Richmond Avenue\, Port Royal
UID:e.1212.5291
SEQUENCE:3
DTSTAMP:20260423T091215Z
URL:http://business.beaufortchamber.org/events/details/coffee-with-colleagues-04-18-2014-5291
END:VEVENT

END:VCALENDAR
