BEGIN:VCALENDAR
VERSION:2.0
PRODID:-//ChamberMaster//Event Calendar 2.0//EN
METHOD:PUBLISH
X-PUBLISHED-TTL:P3D
REFRESH-INTERVAL:P3D
CALSCALE:GREGORIAN
BEGIN:VEVENT
DTSTART:20150821T123000Z
DTEND:20150821T133000Z
X-MICROSOFT-CDO-ALLDAYEVENT:FALSE
SUMMARY:Coffee With Colleagues
DESCRIPTION:Please join us for our Friday morning\, casual networking event.\n\n\n\nOur friends from Beaufort Lands End Tours will be hosting us this month.\n\n\n\nRefreshments will be served and don't forget your business cards! And we will be giving away a Free Kayak Tour for 2!
X-ALT-DESC;FMTTYPE=text/html:Please join us for our Friday morning\, casual networking event.<br />\n<br />\nOur friends from Beaufort Lands End Tours will be hosting us this month.<br />\n<br />\nRefreshments will be served and don&#39\;t forget your business cards! And we will be giving away a Free Kayak Tour for 2!
LOCATION:**Location Change Downtown Marina (Free Parking until 10am) Viking Spirit Yacht in Slip 1 - D
UID:e.1212.6576
SEQUENCE:3
DTSTAMP:20260420T083502Z
URL:http://business.beaufortchamber.org/events/details/coffee-with-colleagues-08-21-2015-6576
END:VEVENT

END:VCALENDAR
