BEGIN:VCALENDAR
VERSION:2.0
PRODID:-//ChamberMaster//Event Calendar 2.0//EN
METHOD:PUBLISH
X-PUBLISHED-TTL:P3D
REFRESH-INTERVAL:P3D
CALSCALE:GREGORIAN
BEGIN:VEVENT
DTSTART:20120928T120000Z
DTEND:20120928T133000Z
X-MICROSOFT-CDO-ALLDAYEVENT:FALSE
SUMMARY:Coffee with Colleagues
DESCRIPTION:Coffee with Colleagues at Pinckney Retreat\n\nin the model home located at 108 Sturdevant Drive\n\nBeaufort\, SC  29902\n\nAt the coffee Enter to Win\n\nA week-end Getaway at Pinckney Retreat at the historic Retreat House\n\noverlooking Battery Creek.
X-ALT-DESC;FMTTYPE=text/html:Coffee with Colleagues at Pinckney Retreat<br />\nin the model home located at 108 Sturdevant Drive<br />\nBeaufort\, SC&nbsp\; 29902<br />\nAt the coffee <em>Enter to Win<br />\nA week-end Getaway at Pinckney Retreat at the historic Retreat House<br />\noverlooking Battery Creek.</em>
LOCATION:Pinckney Retreat is located off Parris Island Gateway.
UID:e.1212.4602
SEQUENCE:3
DTSTAMP:20260422T163012Z
URL:http://business.beaufortchamber.org/events/details/coffee-with-colleagues-09-28-2012-4602
END:VEVENT

END:VCALENDAR
