BEGIN:VCALENDAR
VERSION:2.0
PRODID:-//ChamberMaster//Event Calendar 2.0//EN
METHOD:PUBLISH
X-PUBLISHED-TTL:P3D
REFRESH-INTERVAL:P3D
CALSCALE:GREGORIAN
BEGIN:VEVENT
DTSTART:20111021T123000Z
DTEND:20111021T133000Z
X-MICROSOFT-CDO-ALLDAYEVENT:FALSE
SUMMARY:Coffee with Colleagues
DESCRIPTION:Join us for coffee & networking! \n\n	 \n\n	The Parish Church of St. Helena is hosting October's Coffee with Colleagues.  Bring your business cards and join us for no pressure\, casual networking!
X-ALT-DESC;FMTTYPE=text/html:<p>\n	Join us for coffee &amp\; networking!&nbsp\;<br />\n	&nbsp\;</p>\n<p>\n	The Parish Church of St. Helena is hosting October&#39\;s Coffee with Colleagues.&nbsp\; Bring your business cards and join us for no pressure\, casual networking!</p>\n
LOCATION:The Parish Church of St. Helena (Episcopal Church's Parish Hall) 507 Newcastle Street Downtown Beaufort\, SC 29902
UID:e.1212.3918
SEQUENCE:3
DTSTAMP:20260423T092542Z
URL:http://business.beaufortchamber.org/events/details/coffee-with-colleagues-10-21-2011-3918
END:VEVENT

END:VCALENDAR
