BEGIN:VCALENDAR
VERSION:2.0
PRODID:-//ChamberMaster//Event Calendar 2.0//EN
METHOD:PUBLISH
X-PUBLISHED-TTL:P3D
REFRESH-INTERVAL:P3D
CALSCALE:GREGORIAN
BEGIN:VEVENT
DTSTART:20131115T130000Z
DTEND:20131115T140000Z
X-MICROSOFT-CDO-ALLDAYEVENT:FALSE
SUMMARY:Coffee with Colleagues
DESCRIPTION:Free networking opportunity.  Bring your business cards.
X-ALT-DESC;FMTTYPE=text/html:Free networking opportunity.&nbsp\; Bring your business cards.
LOCATION:Greenfish Gallery 812 Bay Street Beaufort\, SC
UID:e.1212.5104
SEQUENCE:3
DTSTAMP:20260421T163742Z
URL:http://business.beaufortchamber.org/events/details/coffee-with-colleagues-11-15-2013-5104
END:VEVENT

END:VCALENDAR
