BEGIN:VCALENDAR
VERSION:2.0
PRODID:-//ChamberMaster//Event Calendar 2.0//EN
METHOD:PUBLISH
X-PUBLISHED-TTL:P3D
REFRESH-INTERVAL:P3D
CALSCALE:GREGORIAN
BEGIN:VEVENT
DTSTART:20131213T133000Z
DTEND:20131213T143000Z
X-MICROSOFT-CDO-ALLDAYEVENT:FALSE
SUMMARY:Coffee With Colleagues
DESCRIPTION:Please join us for casual networking at Bloom at Belfair (formerly Riverside at Belfair & Belfair Gardens). They will be having some yummy ham biscuits and other breakfast refreshments. We hope you will plan to join us and don't forget to bring your business cards!
X-ALT-DESC;FMTTYPE=text/html:Please join us for casual networking at Bloom at Belfair (formerly Riverside at Belfair &amp\; Belfair Gardens). They will be having some yummy ham biscuits and other breakfast refreshments. We hope you will plan to join us and don&#39\;t forget to bring your business cards!
LOCATION:Bloom at Belfair 60 Oak Forest Road Bluffton\, SC 29910
UID:e.1212.5137
SEQUENCE:3
DTSTAMP:20260421T163741Z
URL:http://business.beaufortchamber.org/events/details/coffee-with-colleagues-12-13-2013-5137
END:VEVENT

END:VCALENDAR
