BEGIN:VCALENDAR
VERSION:2.0
PRODID:-//ChamberMaster//Event Calendar 2.0//EN
METHOD:PUBLISH
X-PUBLISHED-TTL:P3D
REFRESH-INTERVAL:P3D
CALSCALE:GREGORIAN
BEGIN:VEVENT
DTSTART:20130920T123000Z
DTEND:20130920T133000Z
X-MICROSOFT-CDO-ALLDAYEVENT:FALSE
SUMMARY:Coffee with Colleagues - Dairy Queen - Ladys Island\, SC
DESCRIPTION:
X-ALT-DESC;FMTTYPE=text/html:
LOCATION:
UID:e.1212.4999
SEQUENCE:3
DTSTAMP:20260421T200759Z
URL:http://business.beaufortchamber.org/events/details/coffee-with-colleagues-dairy-queen-ladys-island-sc-09-20-2013-4999
END:VEVENT

END:VCALENDAR
